BEGIN:VCALENDAR
VERSION:2.0
PRODID:-//MCHS - ECPv6.15.20//NONSGML v1.0//EN
CALSCALE:GREGORIAN
METHOD:PUBLISH
X-WR-CALNAME:MCHS
X-ORIGINAL-URL:https://staging.millbrookcavanhs.org
X-WR-CALDESC:Events for MCHS
REFRESH-INTERVAL;VALUE=DURATION:PT1H
X-Robots-Tag:noindex
X-PUBLISHED-TTL:PT1H
BEGIN:VTIMEZONE
TZID:UTC
BEGIN:STANDARD
TZOFFSETFROM:+0000
TZOFFSETTO:+0000
TZNAME:UTC
DTSTART:20230101T000000
END:STANDARD
END:VTIMEZONE
BEGIN:VEVENT
DTSTART;TZID=UTC:20240419T190000
DTEND;TZID=UTC:20240419T210000
DTSTAMP:20260420T072656
CREATED:20260418T231535Z
LAST-MODIFIED:20260418T231709Z
UID:10655-1713553200-1713560400@staging.millbrookcavanhs.org
SUMMARY:An Evening with Archaeologist Tom Mohr
DESCRIPTION:This event is free for MCHS members; guests are admitted by donation. \nTom Mohr joins us as MCHS’s special guest for an informal discussion on “Digging Up the Past: An Informal Guide to Ontario Archaeology”. He will talk about his experiences as an archaeologist and history from his unique perspective.\nTom is a co-founder of the Pickering Township Historical Society and helped to open the doors of Lindsay’s Olde Gaol Museum as a former Director and President of the Victoria County Historical\nSociety. \nA licensed archaeologist\, he is also a founding member and currently President of the Peterborough Chapter of the Ontario Archaeological Society. Tom is currently co-editing a book of Old\nVictoria County history and lore\, in tribute to the late Rae Fleming.
URL:https://staging.millbrookcavanhs.org/event/an-evening-with-archaeologist-tom-mohr/
LOCATION:St. John’s Ida\, 1758 County Road 10\, Peterborough\, Ontario\, L0A 1C0\, Canada
CATEGORIES:Talks & presentations
ATTACH;FMTTYPE=image/jpeg:https://staging.millbrookcavanhs.org/wp-content/uploads/2026/04/tom-mohr.jpg
ORGANIZER;CN="Millbrook Cavan Historical Society":MAILTO:millbrookcavanhs@gmail.com
END:VEVENT
END:VCALENDAR