BEGIN:VCALENDAR
VERSION:2.0
PRODID:-//MCHS - ECPv6.15.20//NONSGML v1.0//EN
CALSCALE:GREGORIAN
METHOD:PUBLISH
X-ORIGINAL-URL:https://staging.millbrookcavanhs.org
X-WR-CALDESC:Events for MCHS
REFRESH-INTERVAL;VALUE=DURATION:PT1H
X-Robots-Tag:noindex
X-PUBLISHED-TTL:PT1H
BEGIN:VTIMEZONE
TZID:UTC
BEGIN:STANDARD
TZOFFSETFROM:+0000
TZOFFSETTO:+0000
TZNAME:UTC
DTSTART:20220101T000000
END:STANDARD
END:VTIMEZONE
BEGIN:VEVENT
DTSTART;TZID=UTC:20230223T190000
DTEND;TZID=UTC:20230223T210000
DTSTAMP:20260421T042701
CREATED:20260418T234650Z
LAST-MODIFIED:20260418T234650Z
UID:10678-1677178800-1677186000@staging.millbrookcavanhs.org
SUMMARY:MCHS Presents: An Evening with Robert Winslow
DESCRIPTION:Spend an evening with the Millbrook and Cavan Historical Society and special guest Robert Winslow. Robert will share the inspiration behind the Cavan Blazers and other Millbrook stories\n\nYou’re invited! The Millbrook and Cavan Historical Society is pleased to host Robert Winslow\, local playwright and founder of the 4th Line Theatre. Robert grew up in Millbrook through the 1950s and 60s. he launched the 4th Line Theatre on his family farm in 1992\, premiering his own play The Cavan Blazers\, which became the Company’s flagship production. It is back again for the 2023 season\, so come hear Rob share the history and some insight into our local story that has inspired his work.\n\nAdmission to this event is free for Millbrook and Cavan Historical Society members; guests are admitted by donation.\n\nThere is a cash bar available for refreshments.\n\nDate: Thursday\, February 23\, 2023\nTime: 7:00 pm – 9:00 pm\nLocation: Millbrook Legion Hall 4029 King St E\, Millbrook\, ON L0A 1G0
URL:https://staging.millbrookcavanhs.org/event/mchs-presents-an-evening-with-robert-winslow/
LOCATION:Millbrook Legion Hall\, Millbrook Ontario\, 9 King St E\, Millbrook\, Ontario\, L0A 1G0\, Canada
CATEGORIES:Talks & presentations
ATTACH;FMTTYPE=image/jpeg:https://staging.millbrookcavanhs.org/wp-content/uploads/2026/04/robert-winslow.jpg
ORGANIZER;CN="Millbrook Cavan Historical Society":MAILTO:millbrookcavanhs@gmail.com
END:VEVENT
END:VCALENDAR