BEGIN:VCALENDAR
VERSION:2.0
PRODID:-//MCHS - ECPv6.15.20//NONSGML v1.0//EN
CALSCALE:GREGORIAN
METHOD:PUBLISH
X-ORIGINAL-URL:https://staging.millbrookcavanhs.org
X-WR-CALDESC:Events for MCHS
REFRESH-INTERVAL;VALUE=DURATION:PT1H
X-Robots-Tag:noindex
X-PUBLISHED-TTL:PT1H
BEGIN:VTIMEZONE
TZID:UTC
BEGIN:STANDARD
TZOFFSETFROM:+0000
TZOFFSETTO:+0000
TZNAME:UTC
DTSTART:20220101T000000
END:STANDARD
END:VTIMEZONE
BEGIN:VEVENT
DTSTART;TZID=UTC:20230525T183000
DTEND;TZID=UTC:20230525T203000
DTSTAMP:20260421T185752
CREATED:20260418T235537Z
LAST-MODIFIED:20260418T235537Z
UID:10690-1685039400-1685046600@staging.millbrookcavanhs.org
SUMMARY:MCHS Community Forum & Annual General Meeting
DESCRIPTION:Topic: Creating a Heritage Conservation District in Downtown Millbrook\nPlease join the Millbrook and Cavan Historical Society for a community discussion and information session regarding the implementation of a Heritage Conservation District.\nWe have seen many communities\, such as Port Hope\, Niagara-on-the-Lake\, and others benefit from implementing a heritage conservation district that aims to preserve the unique architecture and character of a given area. We have invited special guests to answer questions about this subject\, provide insight on the benefits and drawbacks\, and dispell common misconceptions about what this would mean for owners of buildings and businesses in the area. Gain a better understanding and provide your thoughts and input at this community forum. All are welcome.\nDinner will be through the Royal Canadian Legion; they will be cooking up hamburgers\, hot dogs\, and other items on the barbeque. Coffee\, tea\, and sweets will be provided by the MCHS. The Legion only accepts cash\, we recommend each attendee bring at least $15 cash to cover their meal. The bar will also be open during the event so you can have soft drinks\, beer\, wine\, or spirits.\nPlease email us to RSVP for the dinner portion so we can ensure the Legion is well prepared: millbrookcavanhs@gmail.com or complete the form online: https://forms.gle/kvnsd15a4MfD33t38\nAfter the Community Forum\, please stay for the brief Annual General Meeting from the Millbrook and Cavan Historical Society. Members in good standing will have voting rights and we will be taking nominations for the Board and Executive at this time.\nDraft Agenda (to be confirmed)\n6:15 pm – Doors Open6:30 – 7:20 pm – Dinner7:30 pm – 8:30 pm – Community Forum on Heritage Conservation District for Downtown Millbrook8:40 pm – 9 pm – MCHS Annual General Meeting
URL:https://staging.millbrookcavanhs.org/event/mchs-community-forum-annual-general-meeting/
LOCATION:Millbrook Legion Hall\, Millbrook Ontario\, 9 King St E\, Millbrook\, Ontario\, L0A 1G0\, Canada
CATEGORIES:Annual meeting
ATTACH;FMTTYPE=image/jpeg:https://staging.millbrookcavanhs.org/wp-content/uploads/2026/04/annual-meeting-2023.jpg
ORGANIZER;CN="Millbrook Cavan Historical Society":MAILTO:millbrookcavanhs@gmail.com
END:VEVENT
END:VCALENDAR