BEGIN:VCALENDAR
VERSION:2.0
PRODID:-//MCHS - ECPv6.15.20//NONSGML v1.0//EN
CALSCALE:GREGORIAN
METHOD:PUBLISH
X-WR-CALNAME:MCHS
X-ORIGINAL-URL:https://staging.millbrookcavanhs.org
X-WR-CALDESC:Events for MCHS
REFRESH-INTERVAL;VALUE=DURATION:PT1H
X-Robots-Tag:noindex
X-PUBLISHED-TTL:PT1H
BEGIN:VTIMEZONE
TZID:UTC
BEGIN:STANDARD
TZOFFSETFROM:+0000
TZOFFSETTO:+0000
TZNAME:UTC
DTSTART:20210101T000000
END:STANDARD
END:VTIMEZONE
BEGIN:VEVENT
DTSTART;TZID=UTC:20221114T190000
DTEND;TZID=UTC:20221114T203000
DTSTAMP:20260422T052152
CREATED:20260418T235027Z
LAST-MODIFIED:20260418T235043Z
UID:10681-1668452400-1668457800@staging.millbrookcavanhs.org
SUMMARY:Millbrook & Cavan Historical Society Annual General Meeting (AGM)
DESCRIPTION:Please join the Millbrook and Cavan Historical Society for our AGM and social hour.\n\nWe look forward to connecting with members\, friends\, and neighbours. There will be light refreshments available.\n\nSpecial thank you to Susan at the Millbrook Cathedral Event Space for generously hosting us.\n\nDateNovember 14\, 2022\n\nTime\n7pm – 8 pm\n\nLocation\nMillbrook Cathedral Event Space40 King St W\, Millbrook\, ON L0A 1G0\nPlease note: We will be in the lounge; which is located in the basement.
URL:https://staging.millbrookcavanhs.org/event/millbrook-cavan-historical-society-annual-general-meeting-agm/
LOCATION:Millbrook Cathedral\, 40 King St W\, Millbrook\, Ontario\, L0A 1G0\, Canada
CATEGORIES:Annual meeting
ATTACH;FMTTYPE=image/jpeg:https://staging.millbrookcavanhs.org/wp-content/uploads/2026/04/annual-meeting-2022.jpg
ORGANIZER;CN="Millbrook Cavan Historical Society":MAILTO:millbrookcavanhs@gmail.com
END:VEVENT
END:VCALENDAR